BEGIN:VCALENDAR
VERSION:2.0
PRODID:-//PRO AGRA PARK - ECPv6.15.20//NONSGML v1.0//EN
CALSCALE:GREGORIAN
METHOD:PUBLISH
X-ORIGINAL-URL:https://proagrapark.de
X-WR-CALDESC:Events for PRO AGRA PARK
REFRESH-INTERVAL;VALUE=DURATION:PT1H
X-Robots-Tag:noindex
X-PUBLISHED-TTL:PT1H
BEGIN:VTIMEZONE
TZID:Europe/Paris
BEGIN:DAYLIGHT
TZOFFSETFROM:+0100
TZOFFSETTO:+0200
TZNAME:CEST
DTSTART:20220327T010000
END:DAYLIGHT
BEGIN:STANDARD
TZOFFSETFROM:+0200
TZOFFSETTO:+0100
TZNAME:CET
DTSTART:20221030T010000
END:STANDARD
BEGIN:DAYLIGHT
TZOFFSETFROM:+0100
TZOFFSETTO:+0200
TZNAME:CEST
DTSTART:20230326T010000
END:DAYLIGHT
BEGIN:STANDARD
TZOFFSETFROM:+0200
TZOFFSETTO:+0100
TZNAME:CET
DTSTART:20231029T010000
END:STANDARD
BEGIN:DAYLIGHT
TZOFFSETFROM:+0100
TZOFFSETTO:+0200
TZNAME:CEST
DTSTART:20240331T010000
END:DAYLIGHT
BEGIN:STANDARD
TZOFFSETFROM:+0200
TZOFFSETTO:+0100
TZNAME:CET
DTSTART:20241027T010000
END:STANDARD
BEGIN:DAYLIGHT
TZOFFSETFROM:+0100
TZOFFSETTO:+0200
TZNAME:CEST
DTSTART:20250330T010000
END:DAYLIGHT
BEGIN:STANDARD
TZOFFSETFROM:+0200
TZOFFSETTO:+0100
TZNAME:CET
DTSTART:20251026T010000
END:STANDARD
BEGIN:DAYLIGHT
TZOFFSETFROM:+0100
TZOFFSETTO:+0200
TZNAME:CEST
DTSTART:20260329T010000
END:DAYLIGHT
BEGIN:STANDARD
TZOFFSETFROM:+0200
TZOFFSETTO:+0100
TZNAME:CET
DTSTART:20261025T010000
END:STANDARD
BEGIN:DAYLIGHT
TZOFFSETFROM:+0100
TZOFFSETTO:+0200
TZNAME:CEST
DTSTART:20270328T010000
END:DAYLIGHT
BEGIN:STANDARD
TZOFFSETFROM:+0200
TZOFFSETTO:+0100
TZNAME:CET
DTSTART:20271031T010000
END:STANDARD
END:VTIMEZONE
BEGIN:VTIMEZONE
TZID:Europe/Berlin
BEGIN:DAYLIGHT
TZOFFSETFROM:+0100
TZOFFSETTO:+0200
TZNAME:CEST
DTSTART:20230326T010000
END:DAYLIGHT
BEGIN:STANDARD
TZOFFSETFROM:+0200
TZOFFSETTO:+0100
TZNAME:CET
DTSTART:20231029T010000
END:STANDARD
BEGIN:DAYLIGHT
TZOFFSETFROM:+0100
TZOFFSETTO:+0200
TZNAME:CEST
DTSTART:20240331T010000
END:DAYLIGHT
BEGIN:STANDARD
TZOFFSETFROM:+0200
TZOFFSETTO:+0100
TZNAME:CET
DTSTART:20241027T010000
END:STANDARD
BEGIN:DAYLIGHT
TZOFFSETFROM:+0100
TZOFFSETTO:+0200
TZNAME:CEST
DTSTART:20250330T010000
END:DAYLIGHT
BEGIN:STANDARD
TZOFFSETFROM:+0200
TZOFFSETTO:+0100
TZNAME:CET
DTSTART:20251026T010000
END:STANDARD
END:VTIMEZONE
BEGIN:VEVENT
DTSTART;TZID=Europe/Paris:20230522T080000
DTEND;TZID=Europe/Paris:20230522T170000
DTSTAMP:20260422T235202
CREATED:20230522T123650Z
LAST-MODIFIED:20230522T123650Z
UID:252-1684742400-1684774800@proagrapark.de
SUMMARY:Mitgliederversammlung: 14. Juni 2023\, 17:00 Uhr
DESCRIPTION:Sehr geehrte Vereinsmitglieder\, Ehrenmitglieder und Gäste\,\n\nzur diesjährigen Mitgliederversammlung laden wir Sie herzlich für den\n14. Juni 17.00 Uhr in das Weiße Haus Markkleeberg ein !\n\nGemäß unserem Statut kommen wir der auferlegten Verpflichtung nach und treffen uns in diesem Jahr gemeinsam – auch um die Neuwahl des Vorstandes zu vollziehen.\nIm Rechenschaftsbericht wird die Arbeit der letzten zwei Jahre belichtet\, die Partner\, die uns zur Seite standen\, hervorgehoben und über den letzten Stand bezüglich der Planung des Tunnels resümiert.\nDie Ziele in der Arbeit für die kommenden Jahre sind eng mit der Entwicklung und Revitalisierung des agra-Parks verbunden\, ist er doch im städtischen Haushalt ein Schlüsselprojekt und somit wohl mit deutlichen finanziellen Mitteln ausgestattet.\nWie kommen wir hier gemeinsam schneller voran\, um wenigstens die akuten Schwachstellen zeitnah zu beseitigen .\nSie dürfen auch gespannt sein\, was uns Prof. Berkner vom Planungsverband Westsachsen als Gastredner zu den Ideen der Pleißeverlegung bzw. deren grüner Revitalisierung mitteilen wird – ist das doch ein Thema von marginalem Interesse aller Vereinsmitglieder und Markkleeberger .\nSchon heute dankt der Vorstand des Vereins Herrn Prof. Berkner für seine Bereitschaft !\nUnsere aktive Vereinsarbeit ruft nach einem erneuten S o m m e r f e s t\, welches sich an die Mitgliederversammlung anschließen wird – auf der Terrasse des Weißen Hauses .\n\nDas Fest wird eingeleitet mit einem musikalischem Leckerbissen:\ndas Klarinettenquartett der Bläserphilharmonie Sachsen bringt uns ein Ständchen ! !\nFür Getränke und Speisen sorgt wieder der Ratskeller mit seinem Team.\n\nSie alle halten deshalb die Daumen\, das uns der Wettergott hold ist ! Seien Sie uns herzlich willkommen!!
URL:https://proagrapark.de/event/mitgliederversammlung-14-juni-2023-1700-uhr/
END:VEVENT
BEGIN:VEVENT
DTSTART;TZID=Europe/Paris:20231104T090000
DTEND;TZID=Europe/Paris:20231104T130000
DTSTAMP:20260422T235202
CREATED:20231025T181951Z
LAST-MODIFIED:20231025T182508Z
UID:259-1699088400-1699102800@proagrapark.de
SUMMARY:agra-Gartentag 04.11.2023
DESCRIPTION:Es geht um 09.00 Uhr los. Bitte mitmachen und melden! Sie finden einen Beitrag auf der Website ….
URL:https://proagrapark.de/event/agra-gartentag-04-11-2023/
END:VEVENT
BEGIN:VEVENT
DTSTART;TZID=Europe/Paris:20240318T183000
DTEND;TZID=Europe/Paris:20240318T203000
DTSTAMP:20260422T235202
CREATED:20240304T124238Z
LAST-MODIFIED:20240304T124547Z
UID:281-1710786600-1710793800@proagrapark.de
SUMMARY:FISCHER ART BORNA
DESCRIPTION:Bitte lesen Sie den Blog Eintrag hierzu …
URL:https://proagrapark.de/event/fischer-art-borna/
END:VEVENT
BEGIN:VEVENT
DTSTART;TZID=Europe/Berlin:20241024T180000
DTEND;TZID=Europe/Berlin:20241024T200000
DTSTAMP:20260422T235202
CREATED:20241015T194125Z
LAST-MODIFIED:20241023T161714Z
UID:293-1729792800-1729800000@proagrapark.de
SUMMARY:Mitgliederversammlung am 24.10.2024 um 18:00 Uhr
DESCRIPTION:Liebe Mitglieder und Freunde des Pro-Agra-Park e.V. \nWir laden Sie herzlich zur Mitgliederversammlung am 24. Oktober 2024 um 18:00 Uhr im Parksalon des Weißen Hauses ein. Wir konnten Herrn Alexander Schneider (Baudezernent der Stadt Markkleeberg) und Frau Dr. Steffi Raatzsch (Kommunales Forum) als Referenten gewinnen … \nDiskutieren Sie mit.
URL:https://proagrapark.de/event/mitgliederversammlung-am-24-10-2024-um-1800-uhr/
END:VEVENT
BEGIN:VEVENT
DTSTART;TZID=Europe/Berlin:20241026T090000
DTEND;TZID=Europe/Berlin:20241026T113000
DTSTAMP:20260422T235202
CREATED:20241015T194614Z
LAST-MODIFIED:20241023T161906Z
UID:295-1729933200-1729942200@proagrapark.de
SUMMARY:Gartentag am 26.10.2024 ab 9:00 Uhr im Agra Park
DESCRIPTION:Es ist wieder soweit. \nBitte merken Sie sich den Tag vor: Samstag\, 26. Oktober 2024. Unterstützen Sie die fleißigen Gärtner und Gärtnerinnen! Kommen Sie um 9:00 Uhr mit möglichst eigenen Geräten zum Ökohaus.
URL:https://proagrapark.de/event/gartentag-am-26-10-2024-ab-900-uhr-im-agra-park/
END:VEVENT
BEGIN:VEVENT
DTSTART;TZID=Europe/Paris:20251021T170000
DTEND;TZID=Europe/Paris:20251021T190000
DTSTAMP:20260422T235202
CREATED:20251002T154715Z
LAST-MODIFIED:20251020T155003Z
UID:314-1761066000-1761073200@proagrapark.de
SUMMARY:Mitgliederversammlung DI 21.10.2025 17:00 Uhr
DESCRIPTION:Vormerken: Hier gehts zum Programm
URL:https://proagrapark.de/event/mitgliederversammlung-di-21-0-2025-1700-uhr/
END:VEVENT
BEGIN:VEVENT
DTSTART;TZID=Europe/Paris:20260212T180000
DTEND;TZID=Europe/Paris:20260212T200000
DTSTAMP:20260422T235202
CREATED:20260113T222828Z
LAST-MODIFIED:20260129T224043Z
UID:325-1770919200-1770926400@proagrapark.de
SUMMARY:Faktencheck: abgesagt
DESCRIPTION:Anstelle des PRO-AGRA  Faktenchecks am 27.02. -> Veranstaltung am 12. Februar\, Kulturstiftung Leipzig
URL:https://proagrapark.de/event/faktencheck/
END:VEVENT
BEGIN:VEVENT
DTSTART;TZID=Europe/Paris:20260328T090000
DTEND;TZID=Europe/Paris:20260328T130000
DTSTAMP:20260422T235202
CREATED:20260313T151419Z
LAST-MODIFIED:20260313T151614Z
UID:374-1774688400-1774702800@proagrapark.de
SUMMARY:Gartentag
DESCRIPTION:Die Info zum Gartentag im März 2026 finden Sie auf unserer Homepage
URL:https://proagrapark.de/event/gartentag-2/
END:VEVENT
END:VCALENDAR